BEGIN:VCALENDAR
VERSION:2.0
PRODID:-//speak2mentor - ECPv6.2.9//NONSGML v1.0//EN
CALSCALE:GREGORIAN
METHOD:PUBLISH
X-ORIGINAL-URL:https://speak2mentor.org
X-WR-CALDESC:Events for speak2mentor
REFRESH-INTERVAL;VALUE=DURATION:PT1H
X-Robots-Tag:noindex
X-PUBLISHED-TTL:PT1H
BEGIN:VTIMEZONE
TZID:UTC
BEGIN:STANDARD
TZOFFSETFROM:+0000
TZOFFSETTO:+0000
TZNAME:UTC
DTSTART:20240101T000000
END:STANDARD
END:VTIMEZONE
BEGIN:VEVENT
DTSTART;TZID=UTC:20240117T080000
DTEND;TZID=UTC:20240117T170000
DTSTAMP:20260424T060318
CREATED:20240108T150658Z
LAST-MODIFIED:20240108T150736Z
UID:2396-1705478400-1705510800@speak2mentor.org
SUMMARY:Mentee Mentoring
DESCRIPTION:Mentee Mentoring Session\, New Mentee will give there introduction here \, they will tell us about there hobbies and many more/
URL:https://speak2mentor.org/event/mentee-mentoring/
LOCATION:Speak2Mentor Office\, A-19 GROUND FLOOR FIEE COMPLEX OKHLA PHASE-II NEW DELHI\, DELHI\, DELHI\, India
ORGANIZER;CN="AMIT GAUR":MAILTO:amit_gaur@hotmail.com
END:VEVENT
END:VCALENDAR