BEGIN:VCALENDAR
VERSION:2.0
PRODID:-//speak2mentor - ECPv6.2.9//NONSGML v1.0//EN
CALSCALE:GREGORIAN
METHOD:PUBLISH
X-WR-CALNAME:speak2mentor
X-ORIGINAL-URL:https://speak2mentor.org
X-WR-CALDESC:Events for speak2mentor
REFRESH-INTERVAL;VALUE=DURATION:PT1H
X-Robots-Tag:noindex
X-PUBLISHED-TTL:PT1H
BEGIN:VTIMEZONE
TZID:UTC
BEGIN:STANDARD
TZOFFSETFROM:+0000
TZOFFSETTO:+0000
TZNAME:UTC
DTSTART:20240101T000000
END:STANDARD
END:VTIMEZONE
BEGIN:VEVENT
DTSTART;TZID=UTC:20240215T100000
DTEND;TZID=UTC:20240215T123000
DTSTAMP:20260424T044144
CREATED:20240201T075219Z
LAST-MODIFIED:20240201T075219Z
UID:2556-1707991200-1708000200@speak2mentor.org
SUMMARY:Urgent Meeting
DESCRIPTION:All Mentors are requested to join the below Google Meet Link\, as per the scheduled time\, the agenda of meeting is to discuss about the bright future of our beloved Mentee’s \nMeet Link: https://www.googlemeet.com
URL:https://speak2mentor.org/event/urgent-meeting/
LOCATION:DELHI
END:VEVENT
END:VCALENDAR