BEGIN:VCALENDAR
VERSION:2.0
PRODID:-//speak2mentor - ECPv6.2.9//NONSGML v1.0//EN
CALSCALE:GREGORIAN
METHOD:PUBLISH
X-WR-CALNAME:speak2mentor
X-ORIGINAL-URL:https://speak2mentor.org
X-WR-CALDESC:Events for speak2mentor
REFRESH-INTERVAL;VALUE=DURATION:PT1H
X-Robots-Tag:noindex
X-PUBLISHED-TTL:PT1H
BEGIN:VTIMEZONE
TZID:UTC
BEGIN:STANDARD
TZOFFSETFROM:+0000
TZOFFSETTO:+0000
TZNAME:UTC
DTSTART:20240101T000000
END:STANDARD
END:VTIMEZONE
BEGIN:VEVENT
DTSTART;VALUE=DATE:20240430
DTEND;VALUE=DATE:20240501
DTSTAMP:20260424T071904
CREATED:20240429T181036Z
LAST-MODIFIED:20240429T181036Z
UID:3074-1714435200-1714521599@speak2mentor.org
SUMMARY:New Event
DESCRIPTION:New Event
URL:https://speak2mentor.org/event/new-event/
LOCATION:Speak2Mentor Office\, A-19 GROUND FLOOR FIEE COMPLEX OKHLA PHASE-II NEW DELHI\, DELHI\, DELHI\, India
ORGANIZER;CN="AMIT GAUR":MAILTO:amit_gaur@hotmail.com
END:VEVENT
BEGIN:VEVENT
DTSTART;TZID=UTC:20240510T080000
DTEND;TZID=UTC:20240510T170000
DTSTAMP:20260424T071904
CREATED:20240507T155256Z
LAST-MODIFIED:20240507T155256Z
UID:3287-1715328000-1715360400@speak2mentor.org
SUMMARY:Urgent Meeting
DESCRIPTION:Hello \n 
URL:https://speak2mentor.org/event/urgent-meeting-2/
LOCATION:Speak2Mentor Office\, A-19 GROUND FLOOR FIEE COMPLEX OKHLA PHASE-II NEW DELHI\, DELHI\, DELHI\, India
ORGANIZER;CN="AMIT GAUR":MAILTO:amit_gaur@hotmail.com
END:VEVENT
BEGIN:VEVENT
DTSTART;TZID=UTC:20240814T080000
DTEND;TZID=UTC:20240814T170000
DTSTAMP:20260424T071904
CREATED:20240804T153834Z
LAST-MODIFIED:20240804T153834Z
UID:3340-1723622400-1723654800@speak2mentor.org
SUMMARY:test
DESCRIPTION:test
URL:https://speak2mentor.org/event/test/
LOCATION:Speak2Mentor Office\, A-19 GROUND FLOOR FIEE COMPLEX OKHLA PHASE-II NEW DELHI\, DELHI\, DELHI\, India
END:VEVENT
END:VCALENDAR